BEGIN:VCALENDAR
VERSION:2.0
PRODID:-//ChamberMaster//Event Calendar 2.0//EN
METHOD:PUBLISH
X-PUBLISHED-TTL:P1H
REFRESH-INTERVAL:P1H
CALSCALE:GREGORIAN
BEGIN:VTIMEZONE
TZID:America/New_York
BEGIN:DAYLIGHT
RRULE:FREQ=YEARLY;BYMONTH=3;BYDAY=2SU
DTSTART:20070101T000000
TZOFFSETFROM:-0500
TZOFFSETTO:-0400
TZNAME:Eastern Daylight Time
END:DAYLIGHT
BEGIN:STANDARD
RRULE:FREQ=YEARLY;BYMONTH=11;BYDAY=1SU
DTSTART:20070101T000000
TZOFFSETFROM:-0400
TZOFFSETTO:-0500
TZNAME:Eastern Standard Time
END:STANDARD
END:VTIMEZONE
BEGIN:VEVENT
DTSTART;TZID=America/New_York:20260117T093000
DTEND;TZID=America/New_York:20260117T120000
X-MICROSOFT-CDO-ALLDAYEVENT:FALSE
SUMMARY:Charlotte-Mecklenburg MLK Parade
DESCRIPTION:Every year\, the City of Charlotte and Mecklenburg County\, through their Community Relations Committee\, come together to expand our community's observance of Dr. Martin Luther King Jr. Day through the Charlotte-Mecklenburg MLK National Holiday Celebration. One staple event is the parade\, where over 100 community organizations\, marching bands\, and step and drill teams weave through the streets of uptown Charlotte. Registration for the parade\, which will be on Saturday\, Jan. 17\, is open now. The deadline to register is Saturday\, Dec. 13. Register today.\nhttps://www.charlottenc.gov/City-News/Award-Nominations-and-Parade-Registration-Open-for-MLK-Celebration\nhttps://charlottenc.seamlessdocs.com/f/mlkparade2026\nhttps://www.charlottenc.gov/City-Government/Departments/CommunityRelations/Dr.-Martin-Luther-King-Celebration
X-ALT-DESC;FMTTYPE=text/html:Every year\, the City of Charlotte and Mecklenburg County\, through their Community Relations Committee\, come together to expand our community's observance of Dr. Martin Luther King Jr. Day through the Charlotte-Mecklenburg MLK National Holiday Celebration. One staple event is the parade\, where over 100 community organizations\, marching bands\, and step and drill teams weave through the streets of uptown Charlotte. Registration for the parade\, which will be on Saturday\, Jan. 17\, is open now. The deadline to register is Saturday\, Dec. 13. Register today.\nhttps://www.charlottenc.gov/City-News/Award-Nominations-and-Parade-Registration-Open-for-MLK-Celebration\nhttps://charlottenc.seamlessdocs.com/f/mlkparade2026\nhttps://www.charlottenc.gov/City-Government/Departments/CommunityRelations/Dr.-Martin-Luther-King-Celebration
LOCATION:100-108 E Trade St. Charlotte NC 28202
UID:e.1680.1282604
SEQUENCE:3
DTSTAMP:20260420T143809Z
URL:https://clgbtcc.growthzoneapp.com/blueridge/Details/charlotte-mecklenburg-mlk-parade-1501859?sourceTypeId=Hub
END:VEVENT
END:VCALENDAR
